BEGIN:VCALENDAR
VERSION:2.0
PRODID:-//wp-events-plugin.com//7.2.3.1//EN
TZID:Europe/London
X-WR-TIMEZONE:Europe/London
BEGIN:VEVENT
UID:529@jmhs.hereford.sch.uk
DTSTART;TZID=Europe/London;VALUE=DATE:20170720
DTEND;TZID=Europe/London;VALUE=DATE:20170721
DTSTAMP:20170125T102523Z
URL:https://www.jmhs.hereford.sch.uk/events/curriculum-enrichment-day-4-2/
SUMMARY:Curriculum Enrichment Day 4
DESCRIPTION:
LOCATION:JMHS\, Mabels Furlong\,\, Ledbury\,\, HR8 2HF\, United Kingdom
GEO:52.0319724;-2.4224980000000187
X-APPLE-STRUCTURED-LOCATION;VALUE=URI;X-ADDRESS=Mabels Furlong\,\, Ledbury\
 ,\, HR8 2HF\, United Kingdom;X-APPLE-RADIUS=100;X-TITLE=JMHS:geo:52.031972
 4,-2.4224980000000187
END:VEVENT
BEGIN:VTIMEZONE
TZID:Europe/London
X-LIC-LOCATION:Europe/London
BEGIN:DAYLIGHT
DTSTART:20170326T020000
TZOFFSETFROM:+0000
TZOFFSETTO:+0100
TZNAME:BST
END:DAYLIGHT
END:VTIMEZONE
END:VCALENDAR