BEGIN:VCALENDAR
VERSION:2.0
PRODID:-//wp-events-plugin.com//7.2.3.1//EN
TZID:Europe/London
X-WR-TIMEZONE:Europe/London
BEGIN:VEVENT
UID:1069@jmhs.hereford.sch.uk
DTSTART;TZID=Europe/London;VALUE=DATE:20240322
DTEND;TZID=Europe/London;VALUE=DATE:20240323
DTSTAMP:20241007T133720Z
URL:https://www.jmhs.hereford.sch.uk/events/last-day-of-term-5/
SUMMARY:Last day of term\, Spring 2024
DESCRIPTION:Students depart at 3:15pm approx
CATEGORIES:TermTimes,VI Form
END:VEVENT
BEGIN:VTIMEZONE
TZID:Europe/London
X-LIC-LOCATION:Europe/London
BEGIN:STANDARD
DTSTART:20231029T010000
TZOFFSETFROM:+0100
TZOFFSETTO:+0000
TZNAME:GMT
END:STANDARD
END:VTIMEZONE
END:VCALENDAR