BEGIN:VCALENDAR
VERSION:2.0
PRODID:-//wp-events-plugin.com//7.2.3.1//EN
TZID:Europe/London
X-WR-TIMEZONE:Europe/London
BEGIN:VEVENT
UID:1036@jmhs.hereford.sch.uk
DTSTART;TZID=Europe/London;VALUE=DATE:20230331
DTEND;TZID=Europe/London;VALUE=DATE:20230401
DTSTAMP:20241007T133346Z
URL:https://www.jmhs.hereford.sch.uk/events/last-day-of-term-students-leav
 e-at-315pm/
SUMMARY:Last day of term - students leave at 3:15pm. March 31\, 2023
DESCRIPTION:
CATEGORIES:TermTimes,VI Form
END:VEVENT
BEGIN:VTIMEZONE
TZID:Europe/London
X-LIC-LOCATION:Europe/London
BEGIN:DAYLIGHT
DTSTART:20230326T020000
TZOFFSETFROM:+0000
TZOFFSETTO:+0100
TZNAME:BST
END:DAYLIGHT
END:VTIMEZONE
END:VCALENDAR