BEGIN:VCALENDAR
VERSION:2.0
PRODID:-//wp-events-plugin.com//7.2.3.1//EN
TZID:Europe/London
X-WR-TIMEZONE:Europe/London
BEGIN:VEVENT
UID:1110@jmhs.hereford.sch.uk
DTSTART;TZID=Europe/London:20240409T161500
DTEND;TZID=Europe/London:20240409T193000
DTSTAMP:20241007T133233Z
URL:https://www.jmhs.hereford.sch.uk/events/ledburys-got-talent-auditions/
SUMMARY:Ledbury's Got Talent - Auditions\, March 21 2024
DESCRIPTION:
ATTACH;FMTTYPE=image/jpeg:/wp-content/uploads/2024/03/LGT-Auditions-Poster
 -FINAL_1.jpg
CATEGORIES:Performance
END:VEVENT
BEGIN:VTIMEZONE
TZID:Europe/London
X-LIC-LOCATION:Europe/London
BEGIN:DAYLIGHT
DTSTART:20240331T020000
TZOFFSETFROM:+0000
TZOFFSETTO:+0100
TZNAME:BST
END:DAYLIGHT
END:VTIMEZONE
END:VCALENDAR