BEGIN:VCALENDAR
VERSION:2.0
PRODID:-//wp-events-plugin.com//7.2.3.1//EN
TZID:Europe/London
X-WR-TIMEZONE:Europe/London
BEGIN:VEVENT
UID:1143@jmhs.hereford.sch.uk
DTSTART;TZID=Europe/London;VALUE=DATE:20250107
DTEND;TZID=Europe/London;VALUE=DATE:20250108
DTSTAMP:20250106T150839Z
URL:https://www.jmhs.hereford.sch.uk/events/start-of-term-spring-2025/
SUMMARY:Start of Term\, Spring 2025
DESCRIPTION:Start of term for all students
CATEGORIES:General,TermTimes,VI Form
END:VEVENT
BEGIN:VTIMEZONE
TZID:Europe/London
X-LIC-LOCATION:Europe/London
BEGIN:STANDARD
DTSTART:20241027T010000
TZOFFSETFROM:+0100
TZOFFSETTO:+0000
TZNAME:GMT
END:STANDARD
END:VTIMEZONE
END:VCALENDAR