BEGIN:VCALENDAR
VERSION:2.0
PRODID:-//wp-events-plugin.com//7.2.3.1//EN
TZID:Europe/London
X-WR-TIMEZONE:Europe/London
BEGIN:VEVENT
UID:1116@jmhs.hereford.sch.uk
DTSTART;TZID=Europe/London;VALUE=DATE:20240904
DTEND;TZID=Europe/London;VALUE=DATE:20240905
DTSTAMP:20241007T132604Z
URL:https://www.jmhs.hereford.sch.uk/events/start-of-term-year-7-year-12-a
 nd-year-13-students-only-3/
SUMMARY:Start of Term:  Year 7 and Year 12  students only. September 4\, 20
 24
DESCRIPTION:
CATEGORIES:General,TermTimes,VI Form
END:VEVENT
BEGIN:VTIMEZONE
TZID:Europe/London
X-LIC-LOCATION:Europe/London
BEGIN:DAYLIGHT
DTSTART:20240331T020000
TZOFFSETFROM:+0000
TZOFFSETTO:+0100
TZNAME:BST
END:DAYLIGHT
END:VTIMEZONE
END:VCALENDAR