BEGIN:VCALENDAR
VERSION:2.0
PRODID:-//wp-events-plugin.com//7.2.3.1//EN
TZID:Europe/London
X-WR-TIMEZONE:Europe/London
BEGIN:VEVENT
UID:637@jmhs.hereford.sch.uk
DTSTART;TZID=Europe/London:20170508T141500
DTEND;TZID=Europe/London:20170508T170000
DTSTAMP:20170424T084412Z
URL:https://www.jmhs.hereford.sch.uk/events/year-10-boys-cricket-vs-weoble
 y-high-school/
SUMMARY:Year 10 boys Cricket Vs Weobley High School
DESCRIPTION:**Fixtures may be rearranged\, adjusted or cancelled**
CATEGORIES:Cricket,Sport Fixture
LOCATION:Weobley High School\, Burton Wood\, Hereford\, Herefordshire\, HR4
  8ST\, United Kingdom
GEO:52.1558903;-2.8677549999999883
X-APPLE-STRUCTURED-LOCATION;VALUE=URI;X-ADDRESS=Burton Wood\, Hereford\, He
 refordshire\, HR4 8ST\, United Kingdom;X-APPLE-RADIUS=100;X-TITLE=Weobley 
 High School:geo:52.1558903,-2.8677549999999883
END:VEVENT
BEGIN:VTIMEZONE
TZID:Europe/London
X-LIC-LOCATION:Europe/London
BEGIN:DAYLIGHT
DTSTART:20170326T020000
TZOFFSETFROM:+0000
TZOFFSETTO:+0100
TZNAME:BST
END:DAYLIGHT
END:VTIMEZONE
END:VCALENDAR