BEGIN:VCALENDAR
VERSION:2.0
PRODID:-//wp-events-plugin.com//7.2.3.1//EN
TZID:Europe/London
X-WR-TIMEZONE:Europe/London
BEGIN:VEVENT
UID:959@jmhs.hereford.sch.uk
DTSTART;TZID=Europe/London:20210528T000000
DTEND;TZID=Europe/London:20210528T000000
DTSTAMP:20210521T093434Z
URL:https://www.jmhs.hereford.sch.uk/events/year-11-last-full-day-in-schoo
 l-for-all-of-year-11/
SUMMARY:Year 11:  Last full day in school for all of Year 11
DESCRIPTION:Year 11 students can leave at 1.30pm
END:VEVENT
BEGIN:VTIMEZONE
TZID:Europe/London
X-LIC-LOCATION:Europe/London
BEGIN:DAYLIGHT
DTSTART:20210328T020000
TZOFFSETFROM:+0000
TZOFFSETTO:+0100
TZNAME:BST
END:DAYLIGHT
END:VTIMEZONE
END:VCALENDAR