BEGIN:VCALENDAR
VERSION:2.0
PRODID:-//wp-events-plugin.com//7.2.3.1//EN
TZID:Europe/London
X-WR-TIMEZONE:Europe/London
BEGIN:VEVENT
UID:1231@jmhs.hereford.sch.uk
DTSTART;TZID=Europe/London:20260430T163000
DTEND;TZID=Europe/London:20260430T193000
DTSTAMP:20260102T185925Z
URL:https://www.jmhs.hereford.sch.uk/events/year-7-parents-evening/
SUMMARY:Year 7 Parents' Evening
DESCRIPTION:
CATEGORIES:Parents Evening
LOCATION:John Masefield High School\, Mable's Furlong\, Ledbury\, HR8 2HF\,
  United Kingdom
X-APPLE-STRUCTURED-LOCATION;VALUE=URI;X-ADDRESS=Mable's Furlong\, Ledbury\,
  HR8 2HF\, United Kingdom;X-APPLE-RADIUS=100;X-TITLE=John Masefield High S
 chool:geo:0,0
END:VEVENT
BEGIN:VTIMEZONE
TZID:Europe/London
X-LIC-LOCATION:Europe/London
BEGIN:DAYLIGHT
DTSTART:20260329T020000
TZOFFSETFROM:+0000
TZOFFSETTO:+0100
TZNAME:BST
END:DAYLIGHT
END:VTIMEZONE
END:VCALENDAR