BEGIN:VCALENDAR
VERSION:2.0
PRODID:-//wp-events-plugin.com//7.2.3.1//EN
TZID:Europe/London
X-WR-TIMEZONE:Europe/London
BEGIN:VEVENT
UID:237@jmhs.hereford.sch.uk
DTSTART;TZID=Europe/London:20160428T033000
DTEND;TZID=Europe/London:20160428T170000
DTSTAMP:20160426T112117Z
URL:https://www.jmhs.hereford.sch.uk/events/year-8-girls-rounders/
SUMMARY:Year 8 & 10 Girls Rounders
DESCRIPTION:
LOCATION:Dysons Perrins\, Yates Hay Rd\, Malvern\, WR14 1WD\, United Kingdo
 m
GEO:52.1324802;-2.330033599999979
X-APPLE-STRUCTURED-LOCATION;VALUE=URI;X-ADDRESS=Yates Hay Rd\, Malvern\, WR
 14 1WD\, United Kingdom;X-APPLE-RADIUS=100;X-TITLE=Dysons Perrins:geo:52.1
 324802,-2.330033599999979
END:VEVENT
BEGIN:VTIMEZONE
TZID:Europe/London
X-LIC-LOCATION:Europe/London
BEGIN:DAYLIGHT
DTSTART:20160327T020000
TZOFFSETFROM:+0000
TZOFFSETTO:+0100
TZNAME:BST
END:DAYLIGHT
END:VTIMEZONE
END:VCALENDAR