BEGIN:VCALENDAR
VERSION:2.0
PRODID:-//wp-events-plugin.com//7.2.3.1//EN
TZID:Europe/London
X-WR-TIMEZONE:Europe/London
BEGIN:VEVENT
UID:833@jmhs.hereford.sch.uk
DTSTART;TZID=Europe/London:20191205T144500
DTEND;TZID=Europe/London:20191205T180000
DTSTAMP:20191129T094104Z
URL:https://www.jmhs.hereford.sch.uk/events/year-8-girls-sports-hall-athle
 tics/
SUMMARY:Year 8 Girls Sports Hall Athletics
DESCRIPTION:Leaving 2:45pm scheduled to return at 6pm.
CATEGORIES:Sport Fixture
LOCATION:Kingstone High School\, Kingstone\, Hereford\, HR2 9HJ\, United Ki
 ngdom
GEO:52.0202927;-2.8465033999999605
X-APPLE-STRUCTURED-LOCATION;VALUE=URI;X-ADDRESS=Kingstone\, Hereford\, HR2 
 9HJ\, United Kingdom;X-APPLE-RADIUS=100;X-TITLE=Kingstone High School:geo:
 52.0202927,-2.8465033999999605
END:VEVENT
BEGIN:VTIMEZONE
TZID:Europe/London
X-LIC-LOCATION:Europe/London
BEGIN:STANDARD
DTSTART:20191027T010000
TZOFFSETFROM:+0100
TZOFFSETTO:+0000
TZNAME:GMT
END:STANDARD
END:VTIMEZONE
END:VCALENDAR